BEGIN:VCALENDAR
VERSION:2.0
PRODID:-//Canada Beyond the Blue - ECPv6.15.20//NONSGML v1.0//EN
CALSCALE:GREGORIAN
METHOD:PUBLISH
X-WR-CALNAME:Canada Beyond the Blue
X-ORIGINAL-URL:https://canadabeyondtheblue.com
X-WR-CALDESC:Events for Canada Beyond the Blue
REFRESH-INTERVAL;VALUE=DURATION:PT1H
X-Robots-Tag:noindex
X-PUBLISHED-TTL:PT1H
BEGIN:VTIMEZONE
TZID:America/Toronto
BEGIN:DAYLIGHT
TZOFFSETFROM:-0500
TZOFFSETTO:-0400
TZNAME:EDT
DTSTART:20230312T070000
END:DAYLIGHT
BEGIN:STANDARD
TZOFFSETFROM:-0400
TZOFFSETTO:-0500
TZNAME:EST
DTSTART:20231105T060000
END:STANDARD
BEGIN:DAYLIGHT
TZOFFSETFROM:-0500
TZOFFSETTO:-0400
TZNAME:EDT
DTSTART:20240310T070000
END:DAYLIGHT
BEGIN:STANDARD
TZOFFSETFROM:-0400
TZOFFSETTO:-0500
TZNAME:EST
DTSTART:20241103T060000
END:STANDARD
BEGIN:DAYLIGHT
TZOFFSETFROM:-0500
TZOFFSETTO:-0400
TZNAME:EDT
DTSTART:20250309T070000
END:DAYLIGHT
BEGIN:STANDARD
TZOFFSETFROM:-0400
TZOFFSETTO:-0500
TZNAME:EST
DTSTART:20251102T060000
END:STANDARD
END:VTIMEZONE
BEGIN:VEVENT
DTSTART;TZID=America/Toronto:20241001T200000
DTEND;TZID=America/Toronto:20241001T213000
DTSTAMP:20260422T203055
CREATED:20240308T163744Z
LAST-MODIFIED:20251111T025936Z
UID:10000070-1727812800-1727818200@canadabeyondtheblue.com
SUMMARY:National Family Connect Call
DESCRIPTION:Unlock the power of support and connection at our National Family Peer Support Virtual Call! Join us for an enriching session where families come together to share experiences\, insights\, and resources. Don’t miss out—register now to strengthen bonds\, gain valuable tools\, and be part of a supportive community like no other. Secure your spot today and let’s journey towards healing and empowerment together! \n\n\n                \n                        \n                            National Family Connect Call\n                             \n                        \n                        Contact DetailsName(Required)\n                            \n                            \n                                                    First\n                                                    \n                                                \n                            \n                            \n                                                            Last\n                                                            \n                                                        \n                            \n                        Email(Required)\n                                \n                                    Enter Email\n                                    \n                                \n                                \n                                    Confirm Email\n                                    \n                                \n                                \n                            PhoneAdditional DetailsServiceBadge NumberName of sworn memberStatus with Police ServiceActive Police MemberRetired Police Member**This is not a marketing consent.  If you want to be notified of our upcoming events or offered workshops\, please subscribe to our newsletter by becoming a member.**(Required)\n								\n								I consent to being contacted for post-session follow up and to receive a recap summary of resources discussed during the session.\n							**This is not a marketing consent.  If you want to be notified of our upcoming events or offered workshops\, please subscribe to our newsletter by becoming a member.**
URL:https://canadabeyondtheblue.com/event/national-family-connect-call/2024-10-01/
LOCATION:Zoom
CATEGORIES:North Bay BTB,TorontoBTB,Vancouver Island BTB,VancouverBTB
ATTACH;FMTTYPE=image/jpeg:https://canadabeyondtheblue.com/wp-content/uploads/2024/03/Police-Family-Call-Marketing-Presentation.jpg
END:VEVENT
BEGIN:VEVENT
DTSTART;TZID=America/Toronto:20241006T100000
DTEND;TZID=America/Toronto:20241006T150000
DTSTAMP:20260422T203055
CREATED:20240908T051736Z
LAST-MODIFIED:20240909T090639Z
UID:10000256-1728208800-1728226800@canadabeyondtheblue.com
SUMMARY:Brooks Family event
DESCRIPTION:“We are back celebrating Fall at Brooks Farms! Come join us and connect with other families for a day of fun\, crafts\, cider and so much more! \n\nZip-liningTrain rides\nJumping pillows\nCorn maze\nPirate ship\nFarm animals\nStraw pyramids & jumps\nRusty’s forest walk\n\nCost: $15 per person. Toddlers 23 months and under are free. Ticket includes access to all the activities offered by Brooks \nExclusive BTB party room with \n\nDIY Cupcakes\nFacepainting\nLive Entertainment.\n\n  \nWe will also be a light serving lunch to guests and refreshments. \n  \nRegister Now \n  \nQuestions? Email education@canadabeyondtheblue.com
URL:https://canadabeyondtheblue.com/event/brooks-family-event/
LOCATION:Brooks Farms\, 122 Ashworth Rd\, Mount Albert\, ON\, L0G 1M0\, Canada
ATTACH;FMTTYPE=image/jpeg:https://canadabeyondtheblue.com/wp-content/uploads/2024/09/5048644807483829539.jpg
END:VEVENT
BEGIN:VEVENT
DTSTART;TZID=America/Toronto:20241014T200000
DTEND;TZID=America/Toronto:20241014T213000
DTSTAMP:20260422T203055
CREATED:20240308T164736Z
LAST-MODIFIED:20241125T085706Z
UID:10000138-1728936000-1728941400@canadabeyondtheblue.com
SUMMARY:Uniform Peer Support- Virtual Session
DESCRIPTION:Unlock the power of support and connection at our peer support virtual group session exclusively for uniformed police members. Join us for an enriching session where officers come together to share experiences\, insights\, and resources. \nJoin a community who gets it. You’re never alone in your struggle. \n  \n  \n\n                \n                        \n                            Peer Support Registration\n                             \n                        \n                        This field is hidden when viewing the formNext Steps: Install a Payment Add-OnTo accept payments on this form you will need to install one of our payment add-ons. To learn more about your payment add-on options\, visit the following page (https://www.gravityforms.com/blog/payment-add-ons). Important: Delete this tip before you publish the form.Contact DetailsName(Required)\n                            \n                            \n                                                    First\n                                                    \n                                                \n                            \n                            \n                                                            Last\n                                                            \n                                                        \n                            \n                        Email(Required)\n                                \n                                    Enter Email\n                                    \n                                \n                                \n                                    Confirm Email\n                                    \n                                \n                                \n                            PhoneAdditional DetailsServiceBadge NumberChapterName of sworn memberStatus with Police ServiceActive Police MemberRetired Police Member**This is not a marketing consent. If you want to be notified of our upcoming events or offered workshops\, please subscribe to our newsletter by becoming a member.**(Required)\n								\n								I consent to being contacted for post-session follow up and to receive a recap summary of resources discussed during the session.\n							**This is not a marketing consent. If you want to be notified of our upcoming events or offered workshops\, please subscribe to our newsletter by becoming a member.**
URL:https://canadabeyondtheblue.com/event/uniform-peer-support-virtual-session/2024-10-14/
LOCATION:Zoom
END:VEVENT
BEGIN:VEVENT
DTSTART;TZID=America/Toronto:20241016T194500
DTEND;TZID=America/Toronto:20241016T210000
DTSTAMP:20260422T203055
CREATED:20241001T134639Z
LAST-MODIFIED:20251111T030123Z
UID:10000257-1729107900-1729112400@canadabeyondtheblue.com
SUMMARY:Police Family Workshop
DESCRIPTION:Title: Police Family Workshop\nDate: October 16th 2024\nTime: 7:45-9:00 pm (EST)\nLocation: Virtual (registration required)\nCost: $15\n\nDescription:\n\nCanada Beyond The Blue Police Family Workshop\, designed especially for new police families. This interactive and informational workshop covers the unique role of a police family and the lifestyle changes that come with it. We provide practical tools and strategies to navigate the challenges and embrace the opportunities in your new journey. Participants will learn about effective communication\, stress management\, and building resilience within their family. Additionally\, we will introduce you to our organization and connect you with a wealth of resources and support networks to help you get started. Join us to build a strong\, informed\, and supportive foundation for your police family.\n(1.5 hours)\n\n\nRegister Now \n  \nQuestions? Email education@canadabeyondtheblue.com
URL:https://canadabeyondtheblue.com/event/police-family-workshop/
LOCATION:Zoom
CATEGORIES:North Bay BTB
ATTACH;FMTTYPE=image/png:https://canadabeyondtheblue.com/wp-content/uploads/2024/09/Canada-Beyond-The-Blue-2.png
END:VEVENT
BEGIN:VEVENT
DTSTART;TZID=America/Toronto:20241028T200000
DTEND;TZID=America/Toronto:20241028T213000
DTSTAMP:20260422T203055
CREATED:20240308T164736Z
LAST-MODIFIED:20241125T085706Z
UID:10000139-1730145600-1730151000@canadabeyondtheblue.com
SUMMARY:Uniform Peer Support- Virtual Session
DESCRIPTION:Unlock the power of support and connection at our peer support virtual group session exclusively for uniformed police members. Join us for an enriching session where officers come together to share experiences\, insights\, and resources. \nJoin a community who gets it. You’re never alone in your struggle. \n  \n  \n\n                \n                        \n                            Peer Support Registration\n                             \n                        \n                        This field is hidden when viewing the formNext Steps: Install a Payment Add-OnTo accept payments on this form you will need to install one of our payment add-ons. To learn more about your payment add-on options\, visit the following page (https://www.gravityforms.com/blog/payment-add-ons). Important: Delete this tip before you publish the form.Contact DetailsName(Required)\n                            \n                            \n                                                    First\n                                                    \n                                                \n                            \n                            \n                                                            Last\n                                                            \n                                                        \n                            \n                        Email(Required)\n                                \n                                    Enter Email\n                                    \n                                \n                                \n                                    Confirm Email\n                                    \n                                \n                                \n                            PhoneAdditional DetailsServiceBadge NumberChapterName of sworn memberStatus with Police ServiceActive Police MemberRetired Police Member**This is not a marketing consent. If you want to be notified of our upcoming events or offered workshops\, please subscribe to our newsletter by becoming a member.**(Required)\n								\n								I consent to being contacted for post-session follow up and to receive a recap summary of resources discussed during the session.\n							**This is not a marketing consent. If you want to be notified of our upcoming events or offered workshops\, please subscribe to our newsletter by becoming a member.**
URL:https://canadabeyondtheblue.com/event/uniform-peer-support-virtual-session/2024-10-28/
LOCATION:Zoom
END:VEVENT
END:VCALENDAR