BEGIN:VCALENDAR
VERSION:2.0
PRODID:-//Canada Beyond the Blue - ECPv6.15.20//NONSGML v1.0//EN
CALSCALE:GREGORIAN
METHOD:PUBLISH
X-ORIGINAL-URL:https://canadabeyondtheblue.com
X-WR-CALDESC:Events for Canada Beyond the Blue
REFRESH-INTERVAL;VALUE=DURATION:PT1H
X-Robots-Tag:noindex
X-PUBLISHED-TTL:PT1H
BEGIN:VTIMEZONE
TZID:America/Toronto
BEGIN:DAYLIGHT
TZOFFSETFROM:-0500
TZOFFSETTO:-0400
TZNAME:EDT
DTSTART:20230312T070000
END:DAYLIGHT
BEGIN:STANDARD
TZOFFSETFROM:-0400
TZOFFSETTO:-0500
TZNAME:EST
DTSTART:20231105T060000
END:STANDARD
BEGIN:DAYLIGHT
TZOFFSETFROM:-0500
TZOFFSETTO:-0400
TZNAME:EDT
DTSTART:20240310T070000
END:DAYLIGHT
BEGIN:STANDARD
TZOFFSETFROM:-0400
TZOFFSETTO:-0500
TZNAME:EST
DTSTART:20241103T060000
END:STANDARD
BEGIN:DAYLIGHT
TZOFFSETFROM:-0500
TZOFFSETTO:-0400
TZNAME:EDT
DTSTART:20250309T070000
END:DAYLIGHT
BEGIN:STANDARD
TZOFFSETFROM:-0400
TZOFFSETTO:-0500
TZNAME:EST
DTSTART:20251102T060000
END:STANDARD
END:VTIMEZONE
BEGIN:VEVENT
DTSTART;TZID=America/Toronto:20240902T200000
DTEND;TZID=America/Toronto:20240902T213000
DTSTAMP:20260422T184723
CREATED:20240308T164736Z
LAST-MODIFIED:20241125T085706Z
UID:10000135-1725307200-1725312600@canadabeyondtheblue.com
SUMMARY:Uniform Peer Support- Virtual Session
DESCRIPTION:Unlock the power of support and connection at our peer support virtual group session exclusively for uniformed police members. Join us for an enriching session where officers come together to share experiences\, insights\, and resources. \nJoin a community who gets it. You’re never alone in your struggle. \n  \n  \n\n\n                \n                        \n                            Peer Support Registration\n                             \n                        \n                        This field is hidden when viewing the formNext Steps: Install a Payment Add-OnTo accept payments on this form you will need to install one of our payment add-ons. To learn more about your payment add-on options\, visit the following page (https://www.gravityforms.com/blog/payment-add-ons). Important: Delete this tip before you publish the form.Contact DetailsName(Required)\n                            \n                            \n                                                    First\n                                                    \n                                                \n                            \n                            \n                                                            Last\n                                                            \n                                                        \n                            \n                        Email(Required)\n                                \n                                    Enter Email\n                                    \n                                \n                                \n                                    Confirm Email\n                                    \n                                \n                                \n                            PhoneAdditional DetailsServiceBadge NumberChapterName of sworn memberStatus with Police ServiceActive Police MemberRetired Police Member**This is not a marketing consent. If you want to be notified of our upcoming events or offered workshops\, please subscribe to our newsletter by becoming a member.**(Required)\n								\n								I consent to being contacted for post-session follow up and to receive a recap summary of resources discussed during the session.\n							**This is not a marketing consent. If you want to be notified of our upcoming events or offered workshops\, please subscribe to our newsletter by becoming a member.**
URL:https://canadabeyondtheblue.com/event/uniform-peer-support-virtual-session/2024-09-02/
LOCATION:Zoom
END:VEVENT
BEGIN:VEVENT
DTSTART;TZID=America/Toronto:20240903T200000
DTEND;TZID=America/Toronto:20240903T213000
DTSTAMP:20260422T184723
CREATED:20240308T163744Z
LAST-MODIFIED:20251111T025936Z
UID:10000069-1725393600-1725399000@canadabeyondtheblue.com
SUMMARY:National Family Connect Call
DESCRIPTION:Unlock the power of support and connection at our National Family Peer Support Virtual Call! Join us for an enriching session where families come together to share experiences\, insights\, and resources. Don’t miss out—register now to strengthen bonds\, gain valuable tools\, and be part of a supportive community like no other. Secure your spot today and let’s journey towards healing and empowerment together! \n\n                \n                        \n                            National Family Connect Call\n                             \n                        \n                        Contact DetailsName(Required)\n                            \n                            \n                                                    First\n                                                    \n                                                \n                            \n                            \n                                                            Last\n                                                            \n                                                        \n                            \n                        Email(Required)\n                                \n                                    Enter Email\n                                    \n                                \n                                \n                                    Confirm Email\n                                    \n                                \n                                \n                            PhoneAdditional DetailsServiceBadge NumberName of sworn memberStatus with Police ServiceActive Police MemberRetired Police Member**This is not a marketing consent.  If you want to be notified of our upcoming events or offered workshops\, please subscribe to our newsletter by becoming a member.**(Required)\n								\n								I consent to being contacted for post-session follow up and to receive a recap summary of resources discussed during the session.\n							**This is not a marketing consent.  If you want to be notified of our upcoming events or offered workshops\, please subscribe to our newsletter by becoming a member.**
URL:https://canadabeyondtheblue.com/event/national-family-connect-call/2024-09-03/
LOCATION:Zoom
CATEGORIES:North Bay BTB,TorontoBTB,Vancouver Island BTB,VancouverBTB
ATTACH;FMTTYPE=image/jpeg:https://canadabeyondtheblue.com/wp-content/uploads/2024/03/Police-Family-Call-Marketing-Presentation.jpg
END:VEVENT
BEGIN:VEVENT
DTSTART;TZID=America/Toronto:20240905T170000
DTEND;TZID=America/Toronto:20240905T230000
DTSTAMP:20260422T184723
CREATED:20240308T161852Z
LAST-MODIFIED:20240828T231311Z
UID:10000064-1725555600-1725577200@canadabeyondtheblue.com
SUMMARY:Champions of Change Awards Gala
DESCRIPTION:Join us at our prestigious awards gala honoring law enforcement heroes dedicated to fostering trauma-informed workplaces. Celebrate the champions cultivating compassionate and supportive environments within the police services. RSVP now to honor those who go above and beyond for mental health and well-being in law enforcement. \n  \nVisit our Gala Page: https://canadabeyondtheblue.com/gala-rsvp/ \n 
URL:https://canadabeyondtheblue.com/event/champions-of-change-awards-gala/
LOCATION:Palais Royale\, 1601 Lake Shore Blvd W\, Toronto\, Ontario\, M6K 3C1\, Canada
ATTACH;FMTTYPE=image/jpeg:https://canadabeyondtheblue.com/wp-content/uploads/2024/03/Nominations.jpg
ORGANIZER;CN="Canada Beyond The Blue":MAILTO:education@canadabeyondtheblue.com
END:VEVENT
BEGIN:VEVENT
DTSTART;TZID=America/Toronto:20240916T200000
DTEND;TZID=America/Toronto:20240916T213000
DTSTAMP:20260422T184723
CREATED:20240308T164736Z
LAST-MODIFIED:20241125T085706Z
UID:10000136-1726516800-1726522200@canadabeyondtheblue.com
SUMMARY:Uniform Peer Support- Virtual Session
DESCRIPTION:Unlock the power of support and connection at our peer support virtual group session exclusively for uniformed police members. Join us for an enriching session where officers come together to share experiences\, insights\, and resources. \nJoin a community who gets it. You’re never alone in your struggle. \n  \n  \n\n                \n                        \n                            Peer Support Registration\n                             \n                        \n                        This field is hidden when viewing the formNext Steps: Install a Payment Add-OnTo accept payments on this form you will need to install one of our payment add-ons. To learn more about your payment add-on options\, visit the following page (https://www.gravityforms.com/blog/payment-add-ons). Important: Delete this tip before you publish the form.Contact DetailsName(Required)\n                            \n                            \n                                                    First\n                                                    \n                                                \n                            \n                            \n                                                            Last\n                                                            \n                                                        \n                            \n                        Email(Required)\n                                \n                                    Enter Email\n                                    \n                                \n                                \n                                    Confirm Email\n                                    \n                                \n                                \n                            PhoneAdditional DetailsServiceBadge NumberChapterName of sworn memberStatus with Police ServiceActive Police MemberRetired Police Member**This is not a marketing consent. If you want to be notified of our upcoming events or offered workshops\, please subscribe to our newsletter by becoming a member.**(Required)\n								\n								I consent to being contacted for post-session follow up and to receive a recap summary of resources discussed during the session.\n							**This is not a marketing consent. If you want to be notified of our upcoming events or offered workshops\, please subscribe to our newsletter by becoming a member.**
URL:https://canadabeyondtheblue.com/event/uniform-peer-support-virtual-session/2024-09-16/
LOCATION:Zoom
END:VEVENT
BEGIN:VEVENT
DTSTART;TZID=America/Toronto:20240930T200000
DTEND;TZID=America/Toronto:20240930T213000
DTSTAMP:20260422T184723
CREATED:20240308T164736Z
LAST-MODIFIED:20241125T085706Z
UID:10000137-1727726400-1727731800@canadabeyondtheblue.com
SUMMARY:Uniform Peer Support- Virtual Session
DESCRIPTION:Unlock the power of support and connection at our peer support virtual group session exclusively for uniformed police members. Join us for an enriching session where officers come together to share experiences\, insights\, and resources. \nJoin a community who gets it. You’re never alone in your struggle. \n  \n  \n\n                \n                        \n                            Peer Support Registration\n                             \n                        \n                        This field is hidden when viewing the formNext Steps: Install a Payment Add-OnTo accept payments on this form you will need to install one of our payment add-ons. To learn more about your payment add-on options\, visit the following page (https://www.gravityforms.com/blog/payment-add-ons). Important: Delete this tip before you publish the form.Contact DetailsName(Required)\n                            \n                            \n                                                    First\n                                                    \n                                                \n                            \n                            \n                                                            Last\n                                                            \n                                                        \n                            \n                        Email(Required)\n                                \n                                    Enter Email\n                                    \n                                \n                                \n                                    Confirm Email\n                                    \n                                \n                                \n                            PhoneAdditional DetailsServiceBadge NumberChapterName of sworn memberStatus with Police ServiceActive Police MemberRetired Police Member**This is not a marketing consent. If you want to be notified of our upcoming events or offered workshops\, please subscribe to our newsletter by becoming a member.**(Required)\n								\n								I consent to being contacted for post-session follow up and to receive a recap summary of resources discussed during the session.\n							**This is not a marketing consent. If you want to be notified of our upcoming events or offered workshops\, please subscribe to our newsletter by becoming a member.**
URL:https://canadabeyondtheblue.com/event/uniform-peer-support-virtual-session/2024-09-30/
LOCATION:Zoom
END:VEVENT
END:VCALENDAR